BEGIN:VCALENDAR
PRODID:-//AT Content Types//AT Event//EN
VERSION:2.0
METHOD:PUBLISH
BEGIN:VEVENT
DTSTAMP:20260423T091422Z
CREATED:20131101T030706Z
UID:ATEvent-2d8b121a870a4ae482c5f9bbfd08b181
LAST-MODIFIED:20131114T013137Z
SUMMARY:進化計算シンポジウム2013
DTSTART:20131214T000000Z
DTEND:20131215T090000Z
LOCATION:霧島ホテル（鹿児島県霧島市牧園町高千穂3948）
CONTACT:進化計算シンポジウム2013
URL:http://www.jpnsec.org/symposium201303.html
CLASS:PUBLIC
END:VEVENT
END:VCALENDAR
