BEGIN:VCALENDAR
PRODID:-//AT Content Types//AT Event//EN
VERSION:2.0
METHOD:PUBLISH
BEGIN:VEVENT
DTSTAMP:20260422T143436Z
CREATED:20081204T115544Z
UID:ATEvent-ed51e59b8b8347f0b458a70bd9a51aa8
LAST-MODIFIED:20081204T115608Z
SUMMARY:Intelligent Deision Making (IDT-09)
DTSTART:20090423T000000Z
DTEND:20090424T080000Z
DESCRIPTION:Intelligent Deision Making (IDT-09)
LOCATION:Himeji
CATEGORIES:関連イベント
URL:http://idt-09.kesinternational.org/
CLASS:PUBLIC
END:VEVENT
END:VCALENDAR
