BEGIN:VCALENDAR
PRODID:-//AT Content Types//AT Event//EN
VERSION:2.0
METHOD:PUBLISH
BEGIN:VEVENT
DTSTAMP:20260421T115858Z
CREATED:20151021T042756Z
UID:ATEvent-cf552faab38741c8ad37633dc33176f0
LAST-MODIFIED:20151218T022002Z
SUMMARY:第107回 MPS 研究会 CFP
DTSTART:20160111T150000Z
DTEND:20160112T145500Z
DESCRIPTION:第107回研究会のCFPが発行されました．奮っ
 ご応募ください
LOCATION:山口湯田温泉　山口健康づくりセンター
CATEGORIES:MPS研究会CFP
URL:http://www.ipsj.or.jp/kenkyukai/event/mps107.html
CLASS:PUBLIC
END:VEVENT
END:VCALENDAR
