BEGIN:VCALENDAR
PRODID:-//AT Content Types//AT Event//EN
VERSION:2.0
METHOD:PUBLISH
BEGIN:VEVENT
DTSTAMP:20260421T133854Z
CREATED:20160328T055909Z
UID:ATEvent-39292d24f456445fa2448a41bec805a0
LAST-MODIFIED:20160328T063720Z
SUMMARY:第108回 MPS 研究会 CFP
DTSTART:20160505T150000Z
DTEND:20160506T145500Z
DESCRIPTION:第108回 MPS 研究会のCFPです．IPSJ BIO 研究会
 IEICE IBISML\, NC 研究会と合同開催です．ふるってご参
 加ください．申し込み締切は5/6です
LOCATION:沖縄科学技術大学院大学
CATEGORIES:MPS研究会CFP
URL:http://www.ipsj.or.jp/kenkyukai/event/mps108bio46.html
CLASS:PUBLIC
END:VEVENT
END:VCALENDAR
