BEGIN:VCALENDAR
PRODID:-//AT Content Types//AT Event//EN
VERSION:1.0
BEGIN:VEVENT
DTSTART:20160404T150000Z
DTEND:20160405T145500Z
DCREATED:20160209T110453Z
UID:ATEvent-a428f241db3c49c48aefa3f34bf8962b
SEQUENCE:0
LAST-MODIFIED:20160623T135911Z
SUMMARY:第109回MPS研究会＠ラスベガス CFP
DESCRIPTION:MPS109 @ ラスベガスの CFP です．\n締切延長し
 ました
LOCATION:Monte Carlo Resort\, Las Vegas\, NV.\, USA.
PRIORITY:3
TRANSP:0
END:VEVENT
END:VCALENDAR
