BEGIN:VCALENDAR
PRODID:-//AT Content Types//AT Event//EN
VERSION:2.0
METHOD:PUBLISH
BEGIN:VEVENT
DTSTAMP:20260423T092207Z
CREATED:20180207T071202Z
UID:ATEvent-69903b6dc1454d2b8d156514692348f5
LAST-MODIFIED:20180207T072047Z
SUMMARY:第119回 MPS 研究会
DTSTART:20180730T000000Z
DTEND:20180802T080000Z
LOCATION:Luxor (MGM)\, Las Vegas\, NV.\, USA.
CATEGORIES:MPS研究会
URL:http://americancse.org/events/csce2018/conferences/pdpta18
CLASS:PUBLIC
END:VEVENT
END:VCALENDAR
