BEGIN:VCALENDAR
PRODID:-//AT Content Types//AT Event//EN
VERSION:2.0
METHOD:PUBLISH
BEGIN:VEVENT
DTSTAMP:20260424T104512Z
CREATED:20181219T045620Z
UID:ATEvent-a545fcfd25414f1eb751442e2af9c1f9
LAST-MODIFIED:20181219T050857Z
SUMMARY:第122回 MPS 研究会 CFP
DTSTART:20190106T150000Z
DTEND:20190107T145500Z
DESCRIPTION:第122回研究会のCFPです．ふるってご参加く
 さい。
LOCATION:湯布院公民館 （〒８７９－５１０２　大分県由布市湯布院町川上３７５８－１）
CATEGORIES:MPS研究会CFP
URL:http://www.ipsj.or.jp/kenkyukai/event/mps120.html
CLASS:PUBLIC
END:VEVENT
END:VCALENDAR
