BEGIN:VCALENDAR
PRODID:-//AT Content Types//AT Event//EN
VERSION:2.0
METHOD:PUBLISH
BEGIN:VEVENT
DTSTAMP:20260420T102542Z
CREATED:20221222T023557Z
UID:ATEvent-74175188bf694930888dd13ae908f867
LAST-MODIFIED:20230211T094033Z
SUMMARY:第142回 MPS 研究会
DTSTART:20230309T000000Z
DTEND:20230310T080000Z
DESCRIPTION:北陸先端大でハイブリット開催をいたしま
 .
LOCATION:北陸先端科学技術大学院大学
CATEGORIES:MPS研究会
URL:https://www.ipsj.or.jp/kenkyukai/event/mps142bio73.html
CLASS:PUBLIC
END:VEVENT
END:VCALENDAR
