BEGIN:VCALENDAR
PRODID:-//AT Content Types//AT Event//EN
VERSION:1.0
BEGIN:VEVENT
DTSTART:20230109T150000Z
DTEND:20230110T145500Z
DCREATED:20221222T023558Z
UID:ATEvent-4aa43a20ac5c4f7c9f44a58ad7e25fad
SEQUENCE:0
LAST-MODIFIED:20221222T024305Z
SUMMARY:第 142回 MPS 研究会 CFP
DESCRIPTION:第 142 回研究会の CFP です。ふるってご参加
 ください。
LOCATION:北陸先端科学技術大学院大学
PRIORITY:3
TRANSP:0
END:VEVENT
END:VCALENDAR
