BEGIN:VCALENDAR
PRODID:-//AT Content Types//AT Event//EN
VERSION:2.0
METHOD:PUBLISH
BEGIN:VEVENT
DTSTAMP:20260419T125001Z
CREATED:20230419T054012Z
UID:ATEvent-d8329b6f5763472f97e1fc9d6c858060
LAST-MODIFIED:20230419T054735Z
SUMMARY:第143回 MPS 研究会
DTSTART:20230629T000000Z
DTEND:20230701T080000Z
DESCRIPTION:IPSJ BIO研究会，IEICE NC研究会，IBISML研究会と
 併催予定
LOCATION:沖縄科学技術大学院大学カンファレンス・センター
CATEGORIES:MPS研究会
URL:http://www.ipsj.or.jp/kenkyukai/event/mps143bio74.html
CLASS:PUBLIC
END:VEVENT
END:VCALENDAR
