BEGIN:VCALENDAR
PRODID:-//AT Content Types//AT Event//EN
VERSION:1.0
BEGIN:VEVENT
DTSTART:20231022T150000Z
DTEND:20231023T145500Z
DCREATED:20230703T212902Z
UID:ATEvent-f3b6e11cbcf04d39b7ec7a238365e09a
SEQUENCE:0
LAST-MODIFIED:20230915T014551Z
SUMMARY:第 146回 MPS 研究会 CFP
DESCRIPTION:第 146 回研究会の CFP です。ふるってご参加
 ください。
LOCATION:電気通信大学 アライアンスセンター100周年記念ホール
PRIORITY:3
TRANSP:0
END:VEVENT
END:VCALENDAR
