BEGIN:VCALENDAR
PRODID:-//AT Content Types//AT Event//EN
VERSION:2.0
METHOD:PUBLISH
BEGIN:VEVENT
DTSTAMP:20260424T195002Z
CREATED:20230703T213849Z
UID:ATEvent-05b38ae5918b44cfb56e79ed35e9a375
LAST-MODIFIED:20231220T074148Z
SUMMARY:第 147回 MPS 研究会 CFP
DTSTART:20240108T150000Z
DTEND:20240109T145500Z
DESCRIPTION:第 142 回研究会の CFP です。ふるってご参加
 ください。
LOCATION:北陸先端科学技術大学院大学
CATEGORIES:MPS研究会CFP
URL:https://www.ipsj.or.jp/kenkyukai/event/mps147bio77.html
CLASS:PUBLIC
END:VEVENT
END:VCALENDAR
