BEGIN:VCALENDAR
PRODID:-//AT Content Types//AT Event//EN
VERSION:2.0
METHOD:PUBLISH
BEGIN:VEVENT
DTSTAMP:20260423T085631Z
CREATED:20240306T010702Z
UID:ATEvent-9887eb41240e422390723d438ee99294
LAST-MODIFIED:20240306T011745Z
SUMMARY:第148回 MPS 研究会 CFP
DTSTART:20240505T150000Z
DTEND:20240506T145500Z
DESCRIPTION:第148回研究会のCFPです．ふるってご参加く
 さい。
LOCATION:沖縄科学技術大学院大学カンファレンス・センター
CATEGORIES:MPS研究会CFP
URL:https://www.ipsj.or.jp/kenkyukai/event/mps148bio78.html
CLASS:PUBLIC
END:VEVENT
END:VCALENDAR
