BEGIN:VCALENDAR
PRODID:-//AT Content Types//AT Event//EN
VERSION:2.0
METHOD:PUBLISH
BEGIN:VEVENT
DTSTAMP:20260421T115742Z
CREATED:20240220T034230Z
UID:ATEvent-96b50a12126a4093aaead99db3bc9429
LAST-MODIFIED:20240220T054652Z
SUMMARY:第149回 MPS 研究会@ラスベガス
DTSTART:20240721T150000Z
DTEND:20240725T080000Z
LOCATION:Luxor (MGM)\, Las Vegas\, NV.\, USA.
CATEGORIES:MPS研究会
URL:https://www.american-cse.org/csce2024/conferences-PDPTA 
CLASS:PUBLIC
END:VEVENT
END:VCALENDAR
