BEGIN:VCALENDAR
PRODID:-//AT Content Types//AT Event//EN
VERSION:1.0
BEGIN:VEVENT
DTSTART:20240905T000000Z
DTEND:20240905T080000Z
DCREATED:20240628T074822Z
UID:ATEvent-f8b8c3287b534b1f8cb1ad20bb0d356b
SEQUENCE:0
LAST-MODIFIED:20240628T075847Z
SUMMARY:第150回 MPS 研究会
DESCRIPTION:FIT2024 と併催で，オンライン開催となりま
 
LOCATION:オンライン開催
PRIORITY:3
TRANSP:0
END:VEVENT
END:VCALENDAR
