BEGIN:VCALENDAR
PRODID:-//AT Content Types//AT Event//EN
VERSION:1.0
BEGIN:VEVENT
DTSTART:20240710T150000Z
DTEND:20240711T145500Z
DCREATED:20240628T075941Z
UID:ATEvent-56dd243c6e92484c988bbd6b2355913b
SEQUENCE:0
LAST-MODIFIED:20240628T080523Z
SUMMARY:第 150 回 MPS 研究会 CFP
DESCRIPTION:第 150 回研究会の CFP です。ふるってご参加
 ください。
LOCATION:オンライン
PRIORITY:3
TRANSP:0
END:VEVENT
END:VCALENDAR
