BEGIN:VCALENDAR
PRODID:-//AT Content Types//AT Event//EN
VERSION:2.0
METHOD:PUBLISH
BEGIN:VEVENT
DTSTAMP:20260424T072428Z
CREATED:20090406T010315Z
UID:ATEvent-805a1c0c90c6292e2d04870b0912ece6
LAST-MODIFIED:20110203T072250Z
SUMMARY:第81回MPS研究会
DTSTART:20101216T000000Z
DTEND:20101217T080000Z
DESCRIPTION:2010/12月16,17日開催．
LOCATION:九州大学
CATEGORIES:MPS研究会
CLASS:PUBLIC
END:VEVENT
END:VCALENDAR
