BEGIN:VCALENDAR
PRODID:-//AT Content Types//AT Event//EN
VERSION:2.0
METHOD:PUBLISH
BEGIN:VEVENT
DTSTAMP:20260424T104614Z
CREATED:20090406T010315Z
UID:ATEvent-1e37ab513120258604a3ed33c5898c02
LAST-MODIFIED:20110222T053422Z
SUMMARY:第82回MPS研究会
DTSTART:20110307T000000Z
DTEND:20110308T080000Z
DESCRIPTION:日程は 2011/03 月７、８日です。\nトランザ
 ション原稿の締め切りは2月7日１７：００（厳守）
 す。
LOCATION:宮崎・青島パームビーチホテル
CATEGORIES:MPS研究会
CLASS:PUBLIC
END:VEVENT
END:VCALENDAR
