BEGIN:VCALENDAR
PRODID:-//AT Content Types//AT Event//EN
VERSION:2.0
METHOD:PUBLISH
BEGIN:VEVENT
DTSTAMP:20260425T024935Z
CREATED:20130304T033405Z
UID:ATEvent-09c52ce147a293bc4e0429c4b19597ce
LAST-MODIFIED:20131018T013350Z
SUMMARY:第96回 MPS 研究会 CFP
DTSTART:20131022T150000Z
DTEND:20131023T145500Z
LOCATION:東京工業大学 大岡山キャンパス
CATEGORIES:MPS研究会CFP
URL:http://www.ipsj.or.jp/kenkyukai/event/mps96.html
CLASS:PUBLIC
END:VEVENT
END:VCALENDAR
